BEGIN:VCALENDAR
VERSION:2.0
PRODID:-//KNOX Hartford - ECPv6.15.20//NONSGML v1.0//EN
CALSCALE:GREGORIAN
METHOD:PUBLISH
X-WR-CALNAME:KNOX Hartford
X-ORIGINAL-URL:https://knoxhartford.org
X-WR-CALDESC:Events for KNOX Hartford
REFRESH-INTERVAL;VALUE=DURATION:PT1H
X-Robots-Tag:noindex
X-PUBLISHED-TTL:PT1H
BEGIN:VTIMEZONE
TZID:America/Halifax
BEGIN:DAYLIGHT
TZOFFSETFROM:-0400
TZOFFSETTO:-0300
TZNAME:ADT
DTSTART:20240310T060000
END:DAYLIGHT
BEGIN:STANDARD
TZOFFSETFROM:-0300
TZOFFSETTO:-0400
TZNAME:AST
DTSTART:20241103T050000
END:STANDARD
BEGIN:DAYLIGHT
TZOFFSETFROM:-0400
TZOFFSETTO:-0300
TZNAME:ADT
DTSTART:20250309T060000
END:DAYLIGHT
BEGIN:STANDARD
TZOFFSETFROM:-0300
TZOFFSETTO:-0400
TZNAME:AST
DTSTART:20251102T050000
END:STANDARD
BEGIN:DAYLIGHT
TZOFFSETFROM:-0400
TZOFFSETTO:-0300
TZNAME:ADT
DTSTART:20260308T060000
END:DAYLIGHT
BEGIN:STANDARD
TZOFFSETFROM:-0300
TZOFFSETTO:-0400
TZNAME:AST
DTSTART:20261101T050000
END:STANDARD
END:VTIMEZONE
BEGIN:VEVENT
DTSTART;TZID=America/Halifax:20251025T090000
DTEND;TZID=America/Halifax:20251025T120000
DTSTAMP:20260421T091107
CREATED:20250918T183445Z
LAST-MODIFIED:20251022T194151Z
UID:22216-1761382800-1761393600@knoxhartford.org
SUMMARY:Love Hartford Week 2025: Citywide Cleanup — Volunteer with KNOX
DESCRIPTION:Greater Hartford Green Team: Love Hartford Week – Spring Grove Cemetery\nDate: Saturday\, October 25\, 2025 | Location: Spring Grove Cemetery\, 2035 Main Street\, Hartford\, CT 06120 \nThe Greater Hartford Green Team is back for another day of community care and connection as part of Love Hartford Week: Citywide Cleanup! \nJoin us to help beautify a Hartford neighborhood through planting\, mulching\, tidying garden beds\, and tackling other outdoor projects that make our public spaces cleaner\, greener\, and more welcoming for everyone. \nWhether you’re a longtime volunteer or joining for the first time\, this is a wonderful opportunity to roll up your sleeves\, meet your neighbors\, and make a visible impact in just a few hours. \nNo experience necessary—just bring your enthusiasm! Tools\, gloves\, and guidance will be provided. \nTo sign up\, go to: https://knoxhartford.galaxydigital.com/need/detail/?need_id=1105082 \nRecent media coverage for Love Hartford Week includes: \n\nWFSB Channel 3\nFOX 61\nWTNH Channel 8\nHartford Courant
URL:https://knoxhartford.org/event/volunteer-in-hartford-love-hartford-week-citywide-cleanup/
LOCATION:Spring Grove Cemetery\, 2035 Main Street\, Hartford\, CT\, 06120\, United States
CATEGORIES:Volunteer Events
ORGANIZER;CN="KNOX Volunteer Events":MAILTO:jessicag@knoxhartford.org
END:VEVENT
END:VCALENDAR