BEGIN:VCALENDAR
VERSION:2.0
PRODID:-//KNOX Hartford - ECPv6.15.20//NONSGML v1.0//EN
CALSCALE:GREGORIAN
METHOD:PUBLISH
X-WR-CALNAME:KNOX Hartford
X-ORIGINAL-URL:https://knoxhartford.org
X-WR-CALDESC:Events for KNOX Hartford
REFRESH-INTERVAL;VALUE=DURATION:PT1H
X-Robots-Tag:noindex
X-PUBLISHED-TTL:PT1H
BEGIN:VTIMEZONE
TZID:UTC
BEGIN:STANDARD
TZOFFSETFROM:+0000
TZOFFSETTO:+0000
TZNAME:UTC
DTSTART:20230101T000000
END:STANDARD
END:VTIMEZONE
BEGIN:VEVENT
DTSTART;TZID=UTC:20240708T153000
DTEND;TZID=UTC:20240708T180000
DTSTAMP:20260424T112455
CREATED:20240702T040056Z
LAST-MODIFIED:20240702T040056Z
UID:21646-1720452600-1720461600@knoxhartford.org
SUMMARY:The KNOX Farmers Market
DESCRIPTION:Join our Green Team and meet up with KNOX volunteers once a month to tackle environmental projects in Hartford. View our upcoming volunteers dates to preserve Hartford’s green spaces\, plant trees\, maintain community gardens\, and more!
URL:https://knoxhartford.org/event/the-knox-farmers-market-5/
CATEGORIES:Knox Events
END:VEVENT
BEGIN:VEVENT
DTSTART;TZID=UTC:20240701T153000
DTEND;TZID=UTC:20240701T180000
DTSTAMP:20260424T112455
CREATED:20240625T040055Z
LAST-MODIFIED:20240625T040055Z
UID:21644-1719847800-1719856800@knoxhartford.org
SUMMARY:The KNOX Farmers Market
DESCRIPTION:Join our Green Team and meet up with KNOX volunteers once a month to tackle environmental projects in Hartford. View our upcoming volunteers dates to preserve Hartford’s green spaces\, plant trees\, maintain community gardens\, and more!
URL:https://knoxhartford.org/event/the-knox-farmers-market-4/
CATEGORIES:Knox Events
END:VEVENT
BEGIN:VEVENT
DTSTART;TZID=UTC:20240624T153000
DTEND;TZID=UTC:20240624T180000
DTSTAMP:20260424T112455
CREATED:20240618T040004Z
LAST-MODIFIED:20240618T040004Z
UID:21642-1719243000-1719252000@knoxhartford.org
SUMMARY:The KNOX Farmers Market
DESCRIPTION:Join our Green Team and meet up with KNOX volunteers once a month to tackle environmental projects in Hartford. View our upcoming volunteers dates to preserve Hartford’s green spaces\, plant trees\, maintain community gardens\, and more!
URL:https://knoxhartford.org/event/the-knox-farmers-market-3/
CATEGORIES:Knox Events
END:VEVENT
BEGIN:VEVENT
DTSTART;TZID=UTC:20240617T153000
DTEND;TZID=UTC:20240617T180000
DTSTAMP:20260424T112455
CREATED:20240611T160048Z
LAST-MODIFIED:20240611T160048Z
UID:21639-1718638200-1718647200@knoxhartford.org
SUMMARY:The KNOX Farmers Market
DESCRIPTION:Join our Green Team and meet up with KNOX volunteers once a month to tackle environmental projects in Hartford. View our upcoming volunteers dates to preserve Hartford’s green spaces\, plant trees\, maintain community gardens\, and more!
URL:https://knoxhartford.org/event/the-knox-farmers-market-2/
CATEGORIES:Knox Events
END:VEVENT
BEGIN:VEVENT
DTSTART;VALUE=DATE:20240615
DTEND;VALUE=DATE:20240616
DTSTAMP:20260424T112455
CREATED:20240328T122355Z
LAST-MODIFIED:20240328T122355Z
UID:21371-1718409600-1718495999@knoxhartford.org
SUMMARY:Greater Hartford Green Team
DESCRIPTION:Join our Green Team and meet up with KNOX volunteers once a month to tackle environmental projects in Hartford. View our upcoming volunteers dates to preserve Hartford’s green spaces\, plant trees\, maintain community gardens\, and more!
URL:https://knoxhartford.org/event/greater-hartford-green-team-4/
CATEGORIES:Knox Events
END:VEVENT
BEGIN:VEVENT
DTSTART;VALUE=DATE:20240610
DTEND;VALUE=DATE:20240611
DTSTAMP:20260424T112455
CREATED:20240605T094117Z
LAST-MODIFIED:20240605T094117Z
UID:21585-1717977600-1718063999@knoxhartford.org
SUMMARY:The KNOX Farmers Market
DESCRIPTION:Join our Green Team and meet up with KNOX volunteers once a month to tackle environmental projects in Hartford. View our upcoming volunteers dates to preserve Hartford’s green spaces\, plant trees\, maintain community gardens\, and more!
URL:https://knoxhartford.org/event/the-knox-farmers-market/
CATEGORIES:Knox Events
END:VEVENT
END:VCALENDAR